Package: qmtools Version: 1.6.0 Command: /Library/Frameworks/R.framework/Resources/bin/R CMD build --keep-empty-dirs --no-resave-data qmtools StartedAt: 2024-04-17 00:11:15 -0400 (Wed, 17 Apr 2024) EndedAt: 2024-04-17 00:12:11 -0400 (Wed, 17 Apr 2024) EllapsedTime: 56.1 seconds RetCode: 0 Status: OK PackageFile: qmtools_1.6.0.tar.gz PackageFileSize: 1.414 MiB