Package: pvca Version: 1.42.0 Command: rm -rf pvca.buildbin-libdir && mkdir pvca.buildbin-libdir && /Users/biocbuild/BBS/utils/build-universal.sh pvca_1.42.0.tar.gz /Library/Frameworks/R.framework/Resources/bin/R pvca.buildbin-libdir StartedAt: 2024-04-18 10:41:05 -0400 (Thu, 18 Apr 2024) EndedAt: 2024-04-18 10:41:21 -0400 (Thu, 18 Apr 2024) EllapsedTime: 15.9 seconds RetCode: 0 Status: OK PackageFile: pvca_1.42.0.tgz PackageFileSize: 224.5 KiB