Package: pvac Version: 1.50.0 Command: /Library/Frameworks/R.framework/Resources/bin/R CMD INSTALL pvac StartedAt: 2024-04-16 10:08:59 -0400 (Tue, 16 Apr 2024) EndedAt: 2024-04-16 10:09:04 -0400 (Tue, 16 Apr 2024) EllapsedTime: 4.7 seconds RetCode: 0 Status: OK