Package: pvac Version: 1.50.0 Command: /Library/Frameworks/R.framework/Resources/bin/R CMD build --keep-empty-dirs --no-resave-data pvac StartedAt: 2024-04-17 00:07:49 -0400 (Wed, 17 Apr 2024) EndedAt: 2024-04-17 00:08:40 -0400 (Wed, 17 Apr 2024) EllapsedTime: 50.3 seconds RetCode: 0 Status: OK PackageFile: pvac_1.50.0.tar.gz PackageFileSize: 257.6 KiB