Package: ptairMS Version: 1.10.0 Command: /Library/Frameworks/R.framework/Resources/bin/R CMD check --install=check:ptairMS.install-out.txt --library=/Library/Frameworks/R.framework/Resources/library --no-vignettes --timings ptairMS_1.10.0.tar.gz StartedAt: 2024-04-17 23:49:25 -0400 (Wed, 17 Apr 2024) EndedAt: 2024-04-17 23:58:57 -0400 (Wed, 17 Apr 2024) EllapsedTime: 572.2 seconds RetCode: 1 Status: ERROR CheckDir: ptairMS.Rcheck Warnings: NA