Package: psichomics Version: 1.28.1 Command: /Library/Frameworks/R.framework/Resources/bin/R CMD build --keep-empty-dirs --no-resave-data psichomics StartedAt: 2024-04-17 00:05:17 -0400 (Wed, 17 Apr 2024) EndedAt: 2024-04-17 00:07:44 -0400 (Wed, 17 Apr 2024) EllapsedTime: 146.8 seconds RetCode: 0 Status: OK PackageFile: psichomics_1.28.1.tar.gz PackageFileSize: 6.124 MiB