Package: progeny Version: 1.24.0 Command: rm -rf progeny.buildbin-libdir && mkdir progeny.buildbin-libdir && /Users/biocbuild/BBS/utils/build-universal.sh progeny_1.24.0.tar.gz /Library/Frameworks/R.framework/Resources/bin/R progeny.buildbin-libdir StartedAt: 2024-04-18 10:39:22 -0400 (Thu, 18 Apr 2024) EndedAt: 2024-04-18 10:39:39 -0400 (Thu, 18 Apr 2024) EllapsedTime: 17.0 seconds RetCode: 0 Status: OK PackageFile: progeny_1.24.0.tgz PackageFileSize: 8.948 MiB