Package: prebs Version: 1.42.0 Command: /Library/Frameworks/R.framework/Resources/bin/R CMD INSTALL prebs StartedAt: 2024-04-16 12:12:14 -0400 (Tue, 16 Apr 2024) EndedAt: 2024-04-16 12:12:56 -0400 (Tue, 16 Apr 2024) EllapsedTime: 41.9 seconds RetCode: 0 Status: OK