Package: prebs Version: 1.42.0 Command: rm -rf prebs.buildbin-libdir && mkdir prebs.buildbin-libdir && /Users/biocbuild/BBS/utils/build-universal.sh prebs_1.42.0.tar.gz /Library/Frameworks/R.framework/Resources/bin/R prebs.buildbin-libdir StartedAt: 2024-04-18 10:37:28 -0400 (Thu, 18 Apr 2024) EndedAt: 2024-04-18 10:38:19 -0400 (Thu, 18 Apr 2024) EllapsedTime: 51.2 seconds RetCode: 0 Status: OK PackageFile: prebs_1.42.0.tgz PackageFileSize: 409.8 KiB