Package: powerTCR Version: 1.22.0 Command: /Library/Frameworks/R.framework/Resources/bin/R CMD build --keep-empty-dirs --no-resave-data powerTCR StartedAt: 2024-04-16 23:52:53 -0400 (Tue, 16 Apr 2024) EndedAt: 2024-04-16 23:53:25 -0400 (Tue, 16 Apr 2024) EllapsedTime: 31.6 seconds RetCode: 0 Status: OK PackageFile: powerTCR_1.22.0.tar.gz PackageFileSize: 384.2 KiB