Package: plyranges Version: 1.22.0 Command: /Library/Frameworks/R.framework/Resources/bin/R CMD build --keep-empty-dirs --no-resave-data plyranges StartedAt: 2024-04-16 23:50:38 -0400 (Tue, 16 Apr 2024) EndedAt: 2024-04-16 23:51:46 -0400 (Tue, 16 Apr 2024) EllapsedTime: 68.4 seconds RetCode: 0 Status: OK PackageFile: plyranges_1.22.0.tar.gz PackageFileSize: 1.24 MiB