Package: plotGrouper Version: 1.20.0 Command: /Library/Frameworks/R.framework/Resources/bin/R CMD check --install=check:plotGrouper.install-out.txt --library=/Library/Frameworks/R.framework/Resources/library --no-vignettes --timings plotGrouper_1.20.0.tar.gz StartedAt: 2024-04-17 23:13:33 -0400 (Wed, 17 Apr 2024) EndedAt: 2024-04-17 23:17:04 -0400 (Wed, 17 Apr 2024) EllapsedTime: 211.4 seconds RetCode: 0 Status: OK CheckDir: plotGrouper.Rcheck Warnings: 0