Package: plotGrouper Version: 1.20.0 Command: /Library/Frameworks/R.framework/Resources/bin/R CMD build --keep-empty-dirs --no-resave-data plotGrouper StartedAt: 2024-04-16 23:49:22 -0400 (Tue, 16 Apr 2024) EndedAt: 2024-04-16 23:49:32 -0400 (Tue, 16 Apr 2024) EllapsedTime: 10.2 seconds RetCode: 0 Status: OK PackageFile: plotGrouper_1.20.0.tar.gz PackageFileSize: 704.3 KiB