Package: plasmut Version: 1.0.0 Maintainer: Adith Arun MaintainerEmail: adith.3.arun at gmail.com git_url: https://git.bioconductor.org/packages/plasmut git_branch: RELEASE_3_18 git_last_commit: 43c16fe git_last_commit_date: 2023-10-24 11:51:45 -0400 (Tue, 24 Oct 2023)