Package: planet Version: 1.10.0 Command: /Library/Frameworks/R.framework/Resources/bin/R CMD check --install=check:planet.install-out.txt --library=/Library/Frameworks/R.framework/Resources/library --no-vignettes --timings planet_1.10.0.tar.gz StartedAt: 2024-04-17 23:08:47 -0400 (Wed, 17 Apr 2024) EndedAt: 2024-04-17 23:10:49 -0400 (Wed, 17 Apr 2024) EllapsedTime: 121.2 seconds RetCode: 0 Status: OK CheckDir: planet.Rcheck Warnings: 0