Package: planet Version: 1.10.0 Command: /Library/Frameworks/R.framework/Resources/bin/R CMD build --keep-empty-dirs --no-resave-data planet StartedAt: 2024-04-16 23:48:00 -0400 (Tue, 16 Apr 2024) EndedAt: 2024-04-16 23:48:35 -0400 (Tue, 16 Apr 2024) EllapsedTime: 35.0 seconds RetCode: 0 Status: OK PackageFile: planet_1.10.0.tar.gz PackageFileSize: 2.791 MiB