Package: piano Version: 2.18.0 Command: rm -rf piano.buildbin-libdir && mkdir piano.buildbin-libdir && /Users/biocbuild/BBS/utils/build-universal.sh piano_2.18.0.tar.gz /Library/Frameworks/R.framework/Resources/bin/R piano.buildbin-libdir StartedAt: 2024-04-18 10:34:51 -0400 (Thu, 18 Apr 2024) EndedAt: 2024-04-18 10:35:14 -0400 (Thu, 18 Apr 2024) EllapsedTime: 22.9 seconds RetCode: 0 Status: OK PackageFile: piano_2.18.0.tgz PackageFileSize: 1.64 MiB