Package: phyloseq Version: 1.46.0 Command: /Library/Frameworks/R.framework/Resources/bin/R CMD build --keep-empty-dirs --no-resave-data phyloseq StartedAt: 2024-04-16 23:44:57 -0400 (Tue, 16 Apr 2024) EndedAt: 2024-04-16 23:46:52 -0400 (Tue, 16 Apr 2024) EllapsedTime: 114.8 seconds RetCode: 1 Status: ERROR PackageFile: None PackageFileSize: NA