Package: phemd Version: 1.18.0 Command: /Library/Frameworks/R.framework/Resources/bin/R CMD INSTALL phemd StartedAt: 2024-04-16 12:14:53 -0400 (Tue, 16 Apr 2024) EndedAt: 2024-04-16 12:15:49 -0400 (Tue, 16 Apr 2024) EllapsedTime: 55.3 seconds RetCode: 0 Status: OK