Package: phemd Version: 1.18.0 Command: /Library/Frameworks/R.framework/Resources/bin/R CMD check --install=check:phemd.install-out.txt --library=/Library/Frameworks/R.framework/Resources/library --no-vignettes --timings phemd_1.18.0.tar.gz StartedAt: 2023-11-04 03:34:59 -0400 (Sat, 04 Nov 2023) EndedAt: 2023-11-04 03:42:08 -0400 (Sat, 04 Nov 2023) EllapsedTime: 429.3 seconds RetCode: 0 Status: WARNINGS CheckDir: phemd.Rcheck Warnings: 1