Package: phemd Version: 1.18.0 Command: /Library/Frameworks/R.framework/Resources/bin/R CMD build --keep-empty-dirs --no-resave-data phemd StartedAt: 2024-04-16 23:42:00 -0400 (Tue, 16 Apr 2024) EndedAt: 2024-04-16 23:43:13 -0400 (Tue, 16 Apr 2024) EllapsedTime: 72.5 seconds RetCode: 1 Status: ERROR PackageFile: None PackageFileSize: NA