Package: pdInfoBuilder Version: 1.66.0 Command: /Library/Frameworks/R.framework/Resources/bin/R CMD build --keep-empty-dirs --no-resave-data pdInfoBuilder StartedAt: 2024-04-16 23:36:24 -0400 (Tue, 16 Apr 2024) EndedAt: 2024-04-16 23:37:06 -0400 (Tue, 16 Apr 2024) EllapsedTime: 42.1 seconds RetCode: 0 Status: OK PackageFile: pdInfoBuilder_1.66.0.tar.gz PackageFileSize: 347.5 KiB