Package: pdInfoBuilder Version: 1.66.0 Command: rm -rf pdInfoBuilder.buildbin-libdir && mkdir pdInfoBuilder.buildbin-libdir && /Users/biocbuild/BBS/utils/build-universal.sh pdInfoBuilder_1.66.0.tar.gz /Library/Frameworks/R.framework/Resources/bin/R pdInfoBuilder.buildbin-libdir StartedAt: 2024-04-18 10:32:46 -0400 (Thu, 18 Apr 2024) EndedAt: 2024-04-18 10:33:37 -0400 (Thu, 18 Apr 2024) EllapsedTime: 50.3 seconds RetCode: 0 Status: OK PackageFile: pdInfoBuilder_1.66.0.tgz PackageFileSize: 808 KiB