Package: pcxn Version: 2.24.0 Command: /Library/Frameworks/R.framework/Resources/bin/R CMD build --keep-empty-dirs --no-resave-data pcxn StartedAt: 2024-04-16 23:36:01 -0400 (Tue, 16 Apr 2024) EndedAt: 2024-04-16 23:36:24 -0400 (Tue, 16 Apr 2024) EllapsedTime: 23.7 seconds RetCode: 0 Status: OK PackageFile: pcxn_2.24.0.tar.gz PackageFileSize: 154.2 KiB