Package: pathVar Version: 1.32.0 Command: rm -rf pathVar.buildbin-libdir && mkdir pathVar.buildbin-libdir && /Users/biocbuild/BBS/utils/build-universal.sh pathVar_1.32.0.tar.gz /Library/Frameworks/R.framework/Resources/bin/R pathVar.buildbin-libdir StartedAt: 2024-04-18 10:32:03 -0400 (Thu, 18 Apr 2024) EndedAt: 2024-04-18 10:32:13 -0400 (Thu, 18 Apr 2024) EllapsedTime: 10.4 seconds RetCode: 0 Status: OK PackageFile: pathVar_1.32.0.tgz PackageFileSize: 4.204 MiB