Package: pareg Version: 1.6.0 Command: rm -rf pareg.buildbin-libdir && mkdir pareg.buildbin-libdir && /Users/biocbuild/BBS/utils/build-universal.sh pareg_1.6.0.tar.gz /Library/Frameworks/R.framework/Resources/bin/R pareg.buildbin-libdir StartedAt: 2024-04-18 10:31:38 -0400 (Thu, 18 Apr 2024) EndedAt: 2024-04-18 10:32:12 -0400 (Thu, 18 Apr 2024) EllapsedTime: 34.6 seconds RetCode: 0 Status: OK PackageFile: pareg_1.6.0.tgz PackageFileSize: 3.129 MiB