Package: panp Version: 1.72.0 Command: /Library/Frameworks/R.framework/Resources/bin/R CMD check --install=check:panp.install-out.txt --library=/Library/Frameworks/R.framework/Resources/library --no-vignettes --timings panp_1.72.0.tar.gz StartedAt: 2024-04-17 22:29:18 -0400 (Wed, 17 Apr 2024) EndedAt: 2024-04-17 22:31:07 -0400 (Wed, 17 Apr 2024) EllapsedTime: 109.4 seconds RetCode: 0 Status: OK CheckDir: panp.Rcheck Warnings: 0