Package: pairkat Version: 1.8.0 Command: /Library/Frameworks/R.framework/Resources/bin/R CMD build --keep-empty-dirs --no-resave-data pairkat StartedAt: 2024-04-16 23:29:04 -0400 (Tue, 16 Apr 2024) EndedAt: 2024-04-16 23:31:41 -0400 (Tue, 16 Apr 2024) EllapsedTime: 157.6 seconds RetCode: 0 Status: OK PackageFile: pairkat_1.8.0.tar.gz PackageFileSize: 825.1 KiB