Package: pairedGSEA Version: 1.2.0 Maintainer: Søren Helweg Dam MaintainerEmail: sohdam at dtu.dk git_url: https://git.bioconductor.org/packages/pairedGSEA git_branch: RELEASE_3_18 git_last_commit: f15ecbd git_last_commit_date: 2023-10-24 11:48:40 -0400 (Tue, 24 Oct 2023)