Package: orthos Version: 1.0.1 Command: /Library/Frameworks/R.framework/Resources/bin/R CMD INSTALL orthos StartedAt: 2024-04-16 13:03:14 -0400 (Tue, 16 Apr 2024) EndedAt: 2024-04-16 13:03:45 -0400 (Tue, 16 Apr 2024) EllapsedTime: 30.9 seconds RetCode: 0 Status: OK