Package: orthos Version: 1.0.1 Command: /Library/Frameworks/R.framework/Resources/bin/R CMD check --install=check:orthos.install-out.txt --library=/Library/Frameworks/R.framework/Resources/library --no-vignettes --timings orthos_1.0.1.tar.gz StartedAt: 2024-04-17 22:12:44 -0400 (Wed, 17 Apr 2024) EndedAt: 2024-04-17 22:24:53 -0400 (Wed, 17 Apr 2024) EllapsedTime: 728.1 seconds RetCode: 0 Status: OK CheckDir: orthos.Rcheck Warnings: 0