Package: orthos Version: 1.0.1 Command: /Library/Frameworks/R.framework/Resources/bin/R CMD build --keep-empty-dirs --no-resave-data orthos StartedAt: 2024-04-16 23:21:40 -0400 (Tue, 16 Apr 2024) EndedAt: 2024-04-16 23:25:18 -0400 (Tue, 16 Apr 2024) EllapsedTime: 218.3 seconds RetCode: 0 Status: OK PackageFile: orthos_1.0.1.tar.gz PackageFileSize: 5.606 MiB