Package: orthogene Version: 1.8.0 Command: /Library/Frameworks/R.framework/Resources/bin/R CMD check --install=check:orthogene.install-out.txt --library=/Library/Frameworks/R.framework/Resources/library --no-vignettes --timings orthogene_1.8.0.tar.gz StartedAt: 2024-04-17 22:09:56 -0400 (Wed, 17 Apr 2024) EndedAt: 2024-04-17 22:21:31 -0400 (Wed, 17 Apr 2024) EllapsedTime: 695.4 seconds RetCode: 1 Status: ERROR CheckDir: orthogene.Rcheck Warnings: NA