Package: oppar Version: 1.30.0 Command: /Library/Frameworks/R.framework/Resources/bin/R CMD check --install=check:oppar.install-out.txt --library=/Library/Frameworks/R.framework/Resources/library --no-vignettes --timings oppar_1.30.0.tar.gz StartedAt: 2024-04-17 22:04:20 -0400 (Wed, 17 Apr 2024) EndedAt: 2024-04-17 22:09:56 -0400 (Wed, 17 Apr 2024) EllapsedTime: 335.7 seconds RetCode: 0 Status: WARNINGS CheckDir: oppar.Rcheck Warnings: 1