Package: oposSOM Version: 2.20.0 Command: rm -rf oposSOM.buildbin-libdir && mkdir oposSOM.buildbin-libdir && /Users/biocbuild/BBS/utils/build-universal.sh oposSOM_2.20.0.tar.gz /Library/Frameworks/R.framework/Resources/bin/R oposSOM.buildbin-libdir StartedAt: 2024-04-18 10:28:21 -0400 (Thu, 18 Apr 2024) EndedAt: 2024-04-18 10:29:23 -0400 (Thu, 18 Apr 2024) EllapsedTime: 61.8 seconds RetCode: 0 Status: OK PackageFile: oposSOM_2.20.0.tgz PackageFileSize: 13.37 MiB