Package: oneSENSE Version: 1.24.0 Command: /Library/Frameworks/R.framework/Resources/bin/R CMD build --keep-empty-dirs --no-resave-data oneSENSE StartedAt: 2024-04-16 23:12:03 -0400 (Tue, 16 Apr 2024) EndedAt: 2024-04-16 23:12:20 -0400 (Tue, 16 Apr 2024) EllapsedTime: 17.2 seconds RetCode: 0 Status: OK PackageFile: oneSENSE_1.24.0.tar.gz PackageFileSize: 2.73 MiB