Package: ompBAM Version: 1.6.0 Command: /Library/Frameworks/R.framework/Resources/bin/R CMD check --install=check:ompBAM.install-out.txt --library=/Library/Frameworks/R.framework/Resources/library --no-vignettes --timings ompBAM_1.6.0.tar.gz StartedAt: 2024-04-17 21:56:37 -0400 (Wed, 17 Apr 2024) EndedAt: 2024-04-17 21:58:51 -0400 (Wed, 17 Apr 2024) EllapsedTime: 133.5 seconds RetCode: 0 Status: OK CheckDir: ompBAM.Rcheck Warnings: 0