Package: ompBAM Version: 1.6.0 Command: /Library/Frameworks/R.framework/Resources/bin/R CMD build --keep-empty-dirs --no-resave-data ompBAM StartedAt: 2024-04-16 23:09:46 -0400 (Tue, 16 Apr 2024) EndedAt: 2024-04-16 23:10:08 -0400 (Tue, 16 Apr 2024) EllapsedTime: 22.6 seconds RetCode: 0 Status: OK PackageFile: ompBAM_1.6.0.tar.gz PackageFileSize: 3.143 MiB