Package: occugene Version: 1.62.0 Command: /Library/Frameworks/R.framework/Resources/bin/R CMD build --keep-empty-dirs --no-resave-data occugene StartedAt: 2024-04-16 23:04:12 -0400 (Tue, 16 Apr 2024) EndedAt: 2024-04-16 23:04:21 -0400 (Tue, 16 Apr 2024) EllapsedTime: 9.0 seconds RetCode: 0 Status: OK PackageFile: occugene_1.62.0.tar.gz PackageFileSize: 194.6 KiB