Package: nullranges Version: 1.8.0 Command: rm -rf nullranges.buildbin-libdir && mkdir nullranges.buildbin-libdir && /Users/biocbuild/BBS/utils/build-universal.sh nullranges_1.8.0.tar.gz /Library/Frameworks/R.framework/Resources/bin/R nullranges.buildbin-libdir StartedAt: 2024-04-18 10:25:20 -0400 (Thu, 18 Apr 2024) EndedAt: 2024-04-18 10:26:18 -0400 (Thu, 18 Apr 2024) EllapsedTime: 58.1 seconds RetCode: 0 Status: OK PackageFile: nullranges_1.8.0.tgz PackageFileSize: 5.023 MiB