Package: nuCpos Version: 1.20.0 Command: /Library/Frameworks/R.framework/Resources/bin/R CMD build --keep-empty-dirs --no-resave-data nuCpos StartedAt: 2024-04-16 23:02:22 -0400 (Tue, 16 Apr 2024) EndedAt: 2024-04-16 23:02:43 -0400 (Tue, 16 Apr 2024) EllapsedTime: 20.7 seconds RetCode: 0 Status: OK PackageFile: nuCpos_1.20.0.tar.gz PackageFileSize: 2.392 MiB