Package: ngsReports Version: 2.4.0 Command: /Library/Frameworks/R.framework/Resources/bin/R CMD INSTALL ngsReports StartedAt: 2024-04-16 11:40:11 -0400 (Tue, 16 Apr 2024) EndedAt: 2024-04-16 11:40:34 -0400 (Tue, 16 Apr 2024) EllapsedTime: 23.0 seconds RetCode: 0 Status: OK