Package: ngsReports Version: 2.4.0 Command: /Library/Frameworks/R.framework/Resources/bin/R CMD build --keep-empty-dirs --no-resave-data ngsReports StartedAt: 2024-04-16 22:53:41 -0400 (Tue, 16 Apr 2024) EndedAt: 2024-04-16 22:55:04 -0400 (Tue, 16 Apr 2024) EllapsedTime: 83.5 seconds RetCode: 0 Status: OK PackageFile: ngsReports_2.4.0.tar.gz PackageFileSize: 3.195 MiB