Package: netboost Version: 2.10.0 Command: /Library/Frameworks/R.framework/Resources/bin/R CMD INSTALL netboost StartedAt: 2024-04-16 11:53:55 -0400 (Tue, 16 Apr 2024) EndedAt: 2024-04-16 11:54:54 -0400 (Tue, 16 Apr 2024) EllapsedTime: 59.5 seconds RetCode: 0 Status: OK