Package: netboost Version: 2.10.0 Maintainer: Pascal Schlosser MaintainerEmail: pascal.schlosser at uniklinik-freiburg.de git_url: https://git.bioconductor.org/packages/netboost git_branch: RELEASE_3_18 git_last_commit: 5678175 git_last_commit_date: 2023-10-24 11:14:09 -0400 (Tue, 24 Oct 2023)