Package: netbiov Version: 1.36.0 Command: /Library/Frameworks/R.framework/Resources/bin/R CMD check --install=check:netbiov.install-out.txt --library=/Library/Frameworks/R.framework/Resources/library --no-vignettes --timings netbiov_1.36.0.tar.gz StartedAt: 2024-04-17 21:18:36 -0400 (Wed, 17 Apr 2024) EndedAt: 2024-04-17 21:22:29 -0400 (Wed, 17 Apr 2024) EllapsedTime: 233.7 seconds RetCode: 0 Status: WARNINGS CheckDir: netbiov.Rcheck Warnings: 2