Package: nearBynding Version: 1.12.0 Command: rm -rf nearBynding.buildbin-libdir && mkdir nearBynding.buildbin-libdir && /Users/biocbuild/BBS/utils/build-universal.sh nearBynding_1.12.0.tar.gz /Library/Frameworks/R.framework/Resources/bin/R nearBynding.buildbin-libdir StartedAt: 2024-04-18 10:22:29 -0400 (Thu, 18 Apr 2024) EndedAt: 2024-04-18 10:23:32 -0400 (Thu, 18 Apr 2024) EllapsedTime: 62.6 seconds RetCode: 0 Status: OK PackageFile: nearBynding_1.12.0.tgz PackageFileSize: 3.213 MiB