Package: ndexr Version: 1.24.0 Command: /Library/Frameworks/R.framework/Resources/bin/R CMD check --install=check:ndexr.install-out.txt --library=/Library/Frameworks/R.framework/Resources/library --no-vignettes --timings ndexr_1.24.0.tar.gz StartedAt: 2024-04-17 21:16:36 -0400 (Wed, 17 Apr 2024) EndedAt: 2024-04-17 21:17:49 -0400 (Wed, 17 Apr 2024) EllapsedTime: 72.1 seconds RetCode: 0 Status: OK CheckDir: ndexr.Rcheck Warnings: 0