Package: ncdfFlow Version: 2.48.0 Command: /Library/Frameworks/R.framework/Resources/bin/R CMD INSTALL ncdfFlow StartedAt: 2024-04-16 10:12:40 -0400 (Tue, 16 Apr 2024) EndedAt: 2024-04-16 10:12:56 -0400 (Tue, 16 Apr 2024) EllapsedTime: 16.1 seconds RetCode: 0 Status: OK