Package: ncdfFlow Version: 2.48.0 Command: /Library/Frameworks/R.framework/Resources/bin/R CMD build --keep-empty-dirs --no-resave-data ncdfFlow StartedAt: 2024-04-16 22:43:49 -0400 (Tue, 16 Apr 2024) EndedAt: 2024-04-16 22:44:23 -0400 (Tue, 16 Apr 2024) EllapsedTime: 34.3 seconds RetCode: 0 Status: OK PackageFile: ncdfFlow_2.48.0.tar.gz PackageFileSize: 198.7 KiB